BEGIN:VCALENDAR
PRODID:-//Microsoft Corporation//Outlook 15.0 MIMEDIR//EN
VERSION:2.0
METHOD:PUBLISH
X-MS-OLK-FORCEINSPECTOROPEN:TRUE
BEGIN:VTIMEZONE
TZID:Israel Standard Time
BEGIN:STANDARD
DTSTART:16011028T020000
RRULE:FREQ=YEARLY;BYDAY=-1SU;BYMONTH=10
TZOFFSETFROM:+0300
TZOFFSETTO:+0200
END:STANDARD
BEGIN:DAYLIGHT
DTSTART:16010330T020000
RRULE:FREQ=YEARLY;BYDAY=-1FR;BYMONTH=3
TZOFFSETFROM:+0200
TZOFFSETTO:+0300
END:DAYLIGHT
END:VTIMEZONE
BEGIN:VEVENT
CLASS:PUBLIC
CREATED:20200514T102931Z
DTEND;TZID="Israel Standard Time":20200615T190000
DTSTAMP:20200514T093600Z
DTSTART;TZID="Israel Standard Time":20200615T173000
LAST-MODIFIED:20200514T102931Z
PRIORITY:5
SEQUENCE:0
SUMMARY;LANGUAGE=he:PDA Webinar: Lifecycle Management of Analytical Procedu
	res and Analytical QbD
TRANSP:OPAQUE
UID:040000008200E00074C5B7101A82E008000000001068832FEC29D601000000000000000
	01000000018E1330EE58A9E4D8DC17AFB163AC497
X-ALT-DESC;FMTTYPE=text/html:<!DOCTYPE HTML PUBLIC "-//W3C//DTD HTML 3.2//E
	N">\n<HTML>\n<HEAD>\n<META NAME="Generator" CONTENT="MS Exchange Server ve
	rsion rmj.rmm.rup.rpr">\n<TITLE></TITLE>\n</HEAD>\n<BODY>\n<!-- Converted 
	from text/rtf format -->\n\n<P DIR=RTL><SPAN LANG="en-us"></SPAN></P>\n\n<
	/BODY>\n</HTML>
X-MICROSOFT-CDO-BUSYSTATUS:BUSY
X-MICROSOFT-CDO-IMPORTANCE:1
X-MICROSOFT-DISALLOW-COUNTER:FALSE
X-MS-OLK-AUTOFILLLOCATION:TRUE
X-MS-OLK-CONFTYPE:0
BEGIN:VALARM
TRIGGER:-PT15M
ACTION:DISPLAY
DESCRIPTION:Reminder
END:VALARM
END:VEVENT
END:VCALENDAR
